BEGIN:VCALENDAR
VERSION:2.0
PRODID:-//Dream of Wild Health - ECPv6.15.20//NONSGML v1.0//EN
CALSCALE:GREGORIAN
METHOD:PUBLISH
X-ORIGINAL-URL:https://dreamofwildhealth.org
X-WR-CALDESC:Events for Dream of Wild Health
REFRESH-INTERVAL;VALUE=DURATION:PT1H
X-Robots-Tag:noindex
X-PUBLISHED-TTL:PT1H
BEGIN:VTIMEZONE
TZID:America/Chicago
BEGIN:DAYLIGHT
TZOFFSETFROM:-0600
TZOFFSETTO:-0500
TZNAME:CDT
DTSTART:20250309T080000
END:DAYLIGHT
BEGIN:STANDARD
TZOFFSETFROM:-0500
TZOFFSETTO:-0600
TZNAME:CST
DTSTART:20251102T070000
END:STANDARD
BEGIN:DAYLIGHT
TZOFFSETFROM:-0600
TZOFFSETTO:-0500
TZNAME:CDT
DTSTART:20260308T080000
END:DAYLIGHT
BEGIN:STANDARD
TZOFFSETFROM:-0500
TZOFFSETTO:-0600
TZNAME:CST
DTSTART:20261101T070000
END:STANDARD
BEGIN:DAYLIGHT
TZOFFSETFROM:-0600
TZOFFSETTO:-0500
TZNAME:CDT
DTSTART:20270314T080000
END:DAYLIGHT
BEGIN:STANDARD
TZOFFSETFROM:-0500
TZOFFSETTO:-0600
TZNAME:CST
DTSTART:20271107T070000
END:STANDARD
END:VTIMEZONE
BEGIN:VEVENT
DTSTART;TZID=America/Chicago:20260404T120000
DTEND;TZID=America/Chicago:20260404T163000
DTSTAMP:20260425T091520
CREATED:20260317T185228Z
LAST-MODIFIED:20260317T185228Z
UID:2542-1775304000-1775320200@dreamofwildhealth.org
SUMMARY:Seed Swap & Barter
DESCRIPTION:Join Dream of Wild Health on Saturday\, April 4\, for a Seed Swap & Barter Event! Seeds must be non-GMO. This community gathering is a chance to swap seeds\, stories\, trinkets\, crafted goods\, and all sorts of other items with your friends\, neighbors\, and community members. Food will be provided at the event\, which runs from 12-4:30 PM. Join us at the Minneapolis American Indian Center on April 4 for this event!
URL:https://dreamofwildhealth.org/event/seed-swap-barter/
LOCATION:Minneapolis American Indian Center\, 1530 E Franklin Ave\, Minneapolis\, MN\, 55404\, United States
END:VEVENT
BEGIN:VEVENT
DTSTART;TZID=America/Chicago:20260406T170000
DTEND;TZID=America/Chicago:20260406T190000
DTSTAMP:20260425T091520
CREATED:20260317T190026Z
LAST-MODIFIED:20260317T190026Z
UID:2545-1775494800-1775502000@dreamofwildhealth.org
SUMMARY:"Boost Your Breakfasts" Intergenerational Cooking Class
DESCRIPTION:Please join Dream of Wild Health for four upcoming community cooking classes. Learn from Native educators and take home handy gifts. \nRSVP here.  \nAll classes take place in Niibi Hall at the MAIC\, 5 pm – 7 pm
URL:https://dreamofwildhealth.org/event/boost-your-breakfasts-intergenerational-cooking-class/
LOCATION:Minneapolis American Indian Center\, 1530 E Franklin Ave\, Minneapolis\, MN\, 55404\, United States
END:VEVENT
BEGIN:VEVENT
DTSTART;TZID=America/Chicago:20260409T170000
DTEND;TZID=America/Chicago:20260409T190000
DTSTAMP:20260425T091520
CREATED:20260317T190208Z
LAST-MODIFIED:20260317T190208Z
UID:2547-1775754000-1775761200@dreamofwildhealth.org
SUMMARY:"Protein Basics" Intergenerational Cooking Class
DESCRIPTION:Please join Dream of Wild Health for four upcoming community cooking classes. Learn from Native educators and take home handy gifts. \nRSVP here.  \nAll classes take place in Niibi Hall at the MAIC\, 5 pm – 7 pm
URL:https://dreamofwildhealth.org/event/protein-basics-intergenerational-cooking-class/
LOCATION:Minneapolis American Indian Center\, 1530 E Franklin Ave\, Minneapolis\, MN\, 55404\, United States
END:VEVENT
BEGIN:VEVENT
DTSTART;TZID=America/Chicago:20260417T170000
DTEND;TZID=America/Chicago:20260417T200000
DTSTAMP:20260425T091520
CREATED:20260317T190304Z
LAST-MODIFIED:20260317T190304Z
UID:2549-1776445200-1776456000@dreamofwildhealth.org
SUMMARY:"No-Cook Meals" Intergenerational Cooking Class
DESCRIPTION:Please join Dream of Wild Health for four upcoming community cooking classes. Learn from Native educators and take home handy gifts. \nRSVP here.  \nAll classes take place in Niibi Hall at the MAIC\, 5 pm – 7 pm
URL:https://dreamofwildhealth.org/event/no-cook-meals-intergenerational-cooking-class/
LOCATION:MN
END:VEVENT
BEGIN:VEVENT
DTSTART;TZID=America/Chicago:20260423T170000
DTEND;TZID=America/Chicago:20260423T200000
DTSTAMP:20260425T091520
CREATED:20260317T190348Z
LAST-MODIFIED:20260317T190348Z
UID:2551-1776963600-1776974400@dreamofwildhealth.org
SUMMARY:"Farm-To-Table" Intergenerational Cooking Class
DESCRIPTION:Please join Dream of Wild Health for four upcoming community cooking classes. Learn from Native educators and take home handy gifts. \nRSVP here.  \nAll classes take place in Niibi Hall at the MAIC\, 5 pm – 7 pm
URL:https://dreamofwildhealth.org/event/farm-to-table-intergenerational-cooking-class/
LOCATION:Minneapolis American Indian Center\, 1530 E Franklin Ave\, Minneapolis\, MN\, 55404\, United States
END:VEVENT
END:VCALENDAR