BEGIN:VCALENDAR
VERSION:2.0
PRODID:-//Dream of Wild Health - ECPv6.15.20//NONSGML v1.0//EN
CALSCALE:GREGORIAN
METHOD:PUBLISH
X-WR-CALNAME:Dream of Wild Health
X-ORIGINAL-URL:https://dreamofwildhealth.org
X-WR-CALDESC:Events for Dream of Wild Health
REFRESH-INTERVAL;VALUE=DURATION:PT1H
X-Robots-Tag:noindex
X-PUBLISHED-TTL:PT1H
BEGIN:VTIMEZONE
TZID:America/Chicago
BEGIN:DAYLIGHT
TZOFFSETFROM:-0600
TZOFFSETTO:-0500
TZNAME:CDT
DTSTART:20250309T080000
END:DAYLIGHT
BEGIN:STANDARD
TZOFFSETFROM:-0500
TZOFFSETTO:-0600
TZNAME:CST
DTSTART:20251102T070000
END:STANDARD
BEGIN:DAYLIGHT
TZOFFSETFROM:-0600
TZOFFSETTO:-0500
TZNAME:CDT
DTSTART:20260308T080000
END:DAYLIGHT
BEGIN:STANDARD
TZOFFSETFROM:-0500
TZOFFSETTO:-0600
TZNAME:CST
DTSTART:20261101T070000
END:STANDARD
BEGIN:DAYLIGHT
TZOFFSETFROM:-0600
TZOFFSETTO:-0500
TZNAME:CDT
DTSTART:20270314T080000
END:DAYLIGHT
BEGIN:STANDARD
TZOFFSETFROM:-0500
TZOFFSETTO:-0600
TZNAME:CST
DTSTART:20271107T070000
END:STANDARD
END:VTIMEZONE
BEGIN:VEVENT
DTSTART;TZID=America/Chicago:20260409T170000
DTEND;TZID=America/Chicago:20260409T190000
DTSTAMP:20260425T075116
CREATED:20260317T190208Z
LAST-MODIFIED:20260317T190208Z
UID:2547-1775754000-1775761200@dreamofwildhealth.org
SUMMARY:"Protein Basics" Intergenerational Cooking Class
DESCRIPTION:Please join Dream of Wild Health for four upcoming community cooking classes. Learn from Native educators and take home handy gifts. \nRSVP here.  \nAll classes take place in Niibi Hall at the MAIC\, 5 pm – 7 pm
URL:https://dreamofwildhealth.org/event/protein-basics-intergenerational-cooking-class/
LOCATION:Minneapolis American Indian Center\, 1530 E Franklin Ave\, Minneapolis\, MN\, 55404\, United States
END:VEVENT
END:VCALENDAR